BEGIN:VCALENDAR
VERSION:2.0
PRODID:-//True Craftsman&#039;s Lodge # 651 - ECPv6.15.17.1//NONSGML v1.0//EN
CALSCALE:GREGORIAN
METHOD:PUBLISH
X-WR-CALNAME:True Craftsman&#039;s Lodge # 651
X-ORIGINAL-URL:https://tcl651.com
X-WR-CALDESC:Events for True Craftsman&#039;s Lodge # 651
REFRESH-INTERVAL;VALUE=DURATION:PT1H
X-Robots-Tag:noindex
X-PUBLISHED-TTL:PT1H
BEGIN:VTIMEZONE
TZID:UTC
BEGIN:STANDARD
TZOFFSETFROM:+0000
TZOFFSETTO:+0000
TZNAME:UTC
DTSTART:20250101T000000
END:STANDARD
END:VTIMEZONE
BEGIN:VEVENT
DTSTART;TZID=UTC:20260422T190000
DTEND;TZID=UTC:20260422T213000
DTSTAMP:20260420T100012
CREATED:20251101T224838Z
LAST-MODIFIED:20251101T224838Z
UID:41282-1776884400-1776893400@tcl651.com
SUMMARY:TCL 651: Stated Communication
DESCRIPTION:
URL:https://tcl651.com/event/tcl-651-stated-communication-6/
LOCATION:Renaissance Room – 6th Floor\, 71 W 23rd Street\, New York\, NY\, 10010\, United States
CATEGORIES:Meetings
ATTACH;FMTTYPE=image/jpeg:https://tcl651.com/wp-content/uploads/2024/11/Lodge_TCL.jpg
END:VEVENT
END:VCALENDAR