BEGIN:VCALENDAR
VERSION:2.0
PRODID:-//True Craftsman&#039;s Lodge # 651 - ECPv6.15.17.1//NONSGML v1.0//EN
CALSCALE:GREGORIAN
METHOD:PUBLISH
X-ORIGINAL-URL:https://tcl651.com
X-WR-CALDESC:Events for True Craftsman&#039;s Lodge # 651
REFRESH-INTERVAL;VALUE=DURATION:PT1H
X-Robots-Tag:noindex
X-PUBLISHED-TTL:PT1H
BEGIN:VTIMEZONE
TZID:UTC
BEGIN:STANDARD
TZOFFSETFROM:+0000
TZOFFSETTO:+0000
TZNAME:UTC
DTSTART:20240101T000000
END:STANDARD
END:VTIMEZONE
BEGIN:VEVENT
DTSTART;TZID=UTC:20250606T190000
DTEND;TZID=UTC:20250606T213000
DTSTAMP:20260420T114255
CREATED:20241124T174825Z
LAST-MODIFIED:20241211T152523Z
UID:40985-1749236400-1749245400@tcl651.com
SUMMARY:George Washington Lodge Meeting
DESCRIPTION:
URL:https://tcl651.com/event/george-washington-lodge-meeting-13/
LOCATION:Doric Room – 8th Floor\, 71 W 23rd Street\, New York\, NY\, 10010\, United States
ATTACH;FMTTYPE=image/jpeg:https://tcl651.com/wp-content/uploads/2024/11/Lodge_GW_meeting.jpg
END:VEVENT
BEGIN:VEVENT
DTSTART;TZID=UTC:20250605T193000
DTEND;TZID=UTC:20250605T213000
DTSTAMP:20260420T114255
CREATED:20241123T212820Z
LAST-MODIFIED:20241211T152517Z
UID:40821-1749151800-1749159000@tcl651.com
SUMMARY:Scotia Lodge Meeting
DESCRIPTION:
URL:https://tcl651.com/event/scotia-lodge-meeting-7/
LOCATION:Doric Room – 8th Floor\, 71 W 23rd Street\, New York\, NY\, 10010\, United States
ATTACH;FMTTYPE=image/jpeg:https://tcl651.com/wp-content/uploads/2024/11/Lodge_Scotia_meeting.jpg
END:VEVENT
BEGIN:VEVENT
DTSTART;TZID=UTC:20250604T080000
DTEND;TZID=UTC:20250604T170000
DTSTAMP:20260420T114255
CREATED:20241123T212143Z
LAST-MODIFIED:20241211T152512Z
UID:40807-1749024000-1749056400@tcl651.com
SUMMARY:Continental Lodge Meeting
DESCRIPTION:
URL:https://tcl651.com/event/continental-lodge-meeting-7/
LOCATION:Renaissance Room – 6th Floor\, 71 W 23rd Street\, New York\, NY\, 10010\, United States
ATTACH;FMTTYPE=image/jpeg:https://tcl651.com/wp-content/uploads/2024/11/Lodge_Continental.jpg
END:VEVENT
BEGIN:VEVENT
DTSTART;TZID=UTC:20250603T190000
DTEND;TZID=UTC:20250603T213000
DTSTAMP:20260420T114255
CREATED:20241124T162706Z
LAST-MODIFIED:20241211T152505Z
UID:40944-1748977200-1748986200@tcl651.com
SUMMARY:Carpenter Emmanuel Lodge Meeting
DESCRIPTION:
URL:https://tcl651.com/event/carpenter-emmanuel-lodge-meeting-13/
LOCATION:Empire Room – 12th Floor\, 71 W 23rd Street\, New York\, NY\, 10010\, United States
ATTACH;FMTTYPE=image/jpeg:https://tcl651.com/wp-content/uploads/2024/11/Lodge_CarpenterEmmanuel.jpg
END:VEVENT
BEGIN:VEVENT
DTSTART;TZID=UTC:20250603T190000
DTEND;TZID=UTC:20250603T213000
DTSTAMP:20260420T114255
CREATED:20241123T214926Z
LAST-MODIFIED:20241211T152458Z
UID:40838-1748977200-1748986200@tcl651.com
SUMMARY:Willard Sylvan Grove Lodge Meeting
DESCRIPTION:
URL:https://tcl651.com/event/willard-sylvan-grove-lodge-meeting-7/
LOCATION:Scottish Rite Masonic Hall\, 28 Lincoln Ave\, Rockville Center\, NY\, 11570\, United States
ATTACH;FMTTYPE=image/jpeg:https://tcl651.com/wp-content/uploads/2024/11/Lodge_WSG_meeting.jpg
END:VEVENT
BEGIN:VEVENT
DTSTART;TZID=UTC:20250530T190000
DTEND;TZID=UTC:20250530T213000
DTSTAMP:20260420T114255
CREATED:20241124T160114Z
LAST-MODIFIED:20241211T152451Z
UID:40911-1748631600-1748640600@tcl651.com
SUMMARY:Bunting Charity Lodge Meeting
DESCRIPTION:
URL:https://tcl651.com/event/bunting-charity-lodge-meeting-10/
LOCATION:Doric Room – 8th Floor\, 71 W 23rd Street\, New York\, NY\, 10010\, United States
ATTACH;FMTTYPE=image/jpeg:https://tcl651.com/wp-content/uploads/2024/11/Lodge_BuntingCharity727.jpg
END:VEVENT
BEGIN:VEVENT
DTSTART;TZID=UTC:20250523T190000
DTEND;TZID=UTC:20250523T213000
DTSTAMP:20260420T114255
CREATED:20241124T174741Z
LAST-MODIFIED:20241211T152439Z
UID:40983-1748026800-1748035800@tcl651.com
SUMMARY:George Washington Lodge Meeting
DESCRIPTION:
URL:https://tcl651.com/event/george-washington-lodge-meeting-12/
LOCATION:Doric Room – 8th Floor\, 71 W 23rd Street\, New York\, NY\, 10010\, United States
ATTACH;FMTTYPE=image/jpeg:https://tcl651.com/wp-content/uploads/2024/11/Lodge_GW_meeting.jpg
END:VEVENT
BEGIN:VEVENT
DTSTART;TZID=UTC:20250521T193000
DTEND;TZID=UTC:20250521T213000
DTSTAMP:20260420T114255
CREATED:20241120T191653Z
LAST-MODIFIED:20241211T152432Z
UID:40676-1747855800-1747863000@tcl651.com
SUMMARY:True Craftsman's Lodge Meeting
DESCRIPTION:Brethren\, we cordially invite you to attend our upcoming Lodge Meeting\, a special occasion where we will come together in fellowship\, discuss important Lodge matters\, and strengthen the bonds of brotherhood. This meeting will also include the election and installation of our new officers\, a significant moment for our Lodge as we continue to grow and serve. Your presence and participation are vital to the success of our Lodge\, and we encourage all Brothers to attend and contribute to the discussions. We look forward to your company as we embrace this important evening and continue our journey in the spirit of Masonic unity and harmony.
URL:https://tcl651.com/event/tcl-lodge-meeting-4/
LOCATION:Renaissance Room – 6th Floor\, 71 W 23rd Street\, New York\, NY\, 10010\, United States
ATTACH;FMTTYPE=image/jpeg:https://tcl651.com/wp-content/uploads/2024/11/Lodge_TCL.jpg
END:VEVENT
BEGIN:VEVENT
DTSTART;TZID=UTC:20250520T190000
DTEND;TZID=UTC:20250520T193000
DTSTAMP:20260420T114255
CREATED:20241124T162628Z
LAST-MODIFIED:20241211T152426Z
UID:40942-1747767600-1747769400@tcl651.com
SUMMARY:Carpenter Emmanuel Lodge Meeting
DESCRIPTION:
URL:https://tcl651.com/event/carpenter-emmanuel-lodge-meeting-12/
LOCATION:Empire Room – 12th Floor\, 71 W 23rd Street\, New York\, NY\, 10010\, United States
ATTACH;FMTTYPE=image/jpeg:https://tcl651.com/wp-content/uploads/2024/11/Lodge_CarpenterEmmanuel.jpg
END:VEVENT
BEGIN:VEVENT
DTSTART;TZID=UTC:20250516T190000
DTEND;TZID=UTC:20250516T213000
DTSTAMP:20260420T114255
CREATED:20241124T160015Z
LAST-MODIFIED:20241211T152420Z
UID:40909-1747422000-1747431000@tcl651.com
SUMMARY:Bunting Charity Lodge Meeting
DESCRIPTION:
URL:https://tcl651.com/event/bunting-charity-lodge-meeting-9/
LOCATION:Doric Room – 8th Floor\, 71 W 23rd Street\, New York\, NY\, 10010\, United States
ATTACH;FMTTYPE=image/jpeg:https://tcl651.com/wp-content/uploads/2024/11/Lodge_BuntingCharity727.jpg
END:VEVENT
BEGIN:VEVENT
DTSTART;TZID=UTC:20250515T190000
DTEND;TZID=UTC:20250515T213000
DTSTAMP:20260420T114255
CREATED:20241123T211231Z
LAST-MODIFIED:20241211T152359Z
UID:40791-1747335600-1747344600@tcl651.com
SUMMARY:Amity Lodge Meeting
DESCRIPTION:
URL:https://tcl651.com/event/amity-lodge-meeting-6/
LOCATION:Corinthian Room – 8th Floor\, 71 W 23rd Street\, New York\, NY\, 10010\, United States
ATTACH;FMTTYPE=image/jpeg:https://tcl651.com/wp-content/uploads/2024/11/Lodge_Amity_Meeting.jpg
END:VEVENT
BEGIN:VEVENT
DTSTART;TZID=UTC:20250509T190000
DTEND;TZID=UTC:20250509T213000
DTSTAMP:20260420T114255
CREATED:20241124T174658Z
LAST-MODIFIED:20241211T152352Z
UID:40981-1746817200-1746826200@tcl651.com
SUMMARY:George Washington Lodge Meeting
DESCRIPTION:
URL:https://tcl651.com/event/george-washington-lodge-meeting-11/
LOCATION:Doric Room – 8th Floor\, 71 W 23rd Street\, New York\, NY\, 10010\, United States
ATTACH;FMTTYPE=image/jpeg:https://tcl651.com/wp-content/uploads/2024/11/Lodge_GW_meeting.jpg
END:VEVENT
BEGIN:VEVENT
DTSTART;TZID=UTC:20250508T190000
DTEND;TZID=UTC:20250508T213000
DTSTAMP:20260420T114255
CREATED:20241123T212742Z
LAST-MODIFIED:20241211T152346Z
UID:40819-1746730800-1746739800@tcl651.com
SUMMARY:Scotia Lodge Meeting
DESCRIPTION:
URL:https://tcl651.com/event/scotia-lodge-meeting-6/
LOCATION:Doric Room – 8th Floor\, 71 W 23rd Street\, New York\, NY\, 10010\, United States
ATTACH;FMTTYPE=image/jpeg:https://tcl651.com/wp-content/uploads/2024/11/Lodge_Scotia_meeting.jpg
END:VEVENT
BEGIN:VEVENT
DTSTART;TZID=UTC:20250507T190000
DTEND;TZID=UTC:20250507T193000
DTSTAMP:20260420T114255
CREATED:20241123T212052Z
LAST-MODIFIED:20241211T152339Z
UID:40805-1746644400-1746646200@tcl651.com
SUMMARY:Continental Lodge Meeting
DESCRIPTION:
URL:https://tcl651.com/event/continental-lodge-meeting-6/
LOCATION:Renaissance Room – 6th Floor\, 71 W 23rd Street\, New York\, NY\, 10010\, United States
ATTACH;FMTTYPE=image/jpeg:https://tcl651.com/wp-content/uploads/2024/11/Lodge_Continental.jpg
END:VEVENT
BEGIN:VEVENT
DTSTART;TZID=UTC:20250506T193000
DTEND;TZID=UTC:20250506T213000
DTSTAMP:20260420T114255
CREATED:20241123T214742Z
LAST-MODIFIED:20241211T152332Z
UID:40836-1746559800-1746567000@tcl651.com
SUMMARY:Willard Sylvan Grove Lodge Meeting
DESCRIPTION:
URL:https://tcl651.com/event/willard-sylvan-grove-lodge-meeting-6/
LOCATION:Scottish Rite Masonic Hall\, 28 Lincoln Ave\, Rockville Center\, NY\, 11570\, United States
ATTACH;FMTTYPE=image/jpeg:https://tcl651.com/wp-content/uploads/2024/11/Lodge_WSG_meeting.jpg
END:VEVENT
BEGIN:VEVENT
DTSTART;TZID=UTC:20250506T190000
DTEND;TZID=UTC:20250506T213000
DTSTAMP:20260420T114255
CREATED:20241124T162540Z
LAST-MODIFIED:20241211T152326Z
UID:40940-1746558000-1746567000@tcl651.com
SUMMARY:Carpenter Emmanuel Lodge Meeting
DESCRIPTION:
URL:https://tcl651.com/event/carpenter-emmanuel-lodge-meeting-11/
LOCATION:Empire Room – 12th Floor\, 71 W 23rd Street\, New York\, NY\, 10010\, United States
ATTACH;FMTTYPE=image/jpeg:https://tcl651.com/wp-content/uploads/2024/11/Lodge_CarpenterEmmanuel.jpg
END:VEVENT
BEGIN:VEVENT
DTSTART;TZID=UTC:20250425T080000
DTEND;TZID=UTC:20250425T170000
DTSTAMP:20260420T114255
CREATED:20241124T174609Z
LAST-MODIFIED:20241211T152320Z
UID:40979-1745568000-1745600400@tcl651.com
SUMMARY:George Washington Lodge Meeting
DESCRIPTION:
URL:https://tcl651.com/event/george-washington-lodge-meeting-10/
LOCATION:Doric Room – 8th Floor\, 71 W 23rd Street\, New York\, NY\, 10010\, United States
ATTACH;FMTTYPE=image/jpeg:https://tcl651.com/wp-content/uploads/2024/11/Lodge_GW_meeting.jpg
END:VEVENT
BEGIN:VEVENT
DTSTART;TZID=UTC:20250423T193000
DTEND;TZID=UTC:20250423T213000
DTSTAMP:20260420T114255
CREATED:20241120T191352Z
LAST-MODIFIED:20241211T151549Z
UID:40673-1745436600-1745443800@tcl651.com
SUMMARY:True Craftsman's Lodge Meeting & Lecture: The Empty Chair
DESCRIPTION:Brethren\, we warmly invite you to join us for a special and meaningful Empty Chair Lecture during our upcoming Lodge meeting. This ritual serves as a powerful reminder of the enduring bonds of brotherhood that transcend both time and space. As we honor the memory of our deceased Brothers or reflect on those who are absent\, the Empty Chair symbolizes their continued presence in our hearts and in the Lodge. The lecture will offer an opportunity for reflection on the values of Masonic charity\, fellowship\, and the lasting impact each Brother has on our lives. We encourage all Brothers to attend\, as your presence will help strengthen our unity and commitment to the principles of the Craft.
URL:https://tcl651.com/event/tcl-lecture-the-empty-chair/
LOCATION:Renaissance Room – 6th Floor\, 71 W 23rd Street\, New York\, NY\, 10010\, United States
ATTACH;FMTTYPE=image/jpeg:https://tcl651.com/wp-content/uploads/2024/11/EmptyChair.jpg
END:VEVENT
BEGIN:VEVENT
DTSTART;TZID=UTC:20250422T190000
DTEND;TZID=UTC:20250422T213000
DTSTAMP:20260420T114255
CREATED:20241124T162450Z
LAST-MODIFIED:20241211T152312Z
UID:40938-1745348400-1745357400@tcl651.com
SUMMARY:Carpenter Emmanuel Lodge Meeting
DESCRIPTION:
URL:https://tcl651.com/event/carpenter-emmanuel-lodge-meeting-10/
LOCATION:Empire Room – 12th Floor\, 71 W 23rd Street\, New York\, NY\, 10010\, United States
ATTACH;FMTTYPE=image/jpeg:https://tcl651.com/wp-content/uploads/2024/11/Lodge_CarpenterEmmanuel.jpg
END:VEVENT
BEGIN:VEVENT
DTSTART;TZID=UTC:20250417T190000
DTEND;TZID=UTC:20250417T213000
DTSTAMP:20260420T114255
CREATED:20241123T210957Z
LAST-MODIFIED:20241211T152304Z
UID:40789-1744916400-1744925400@tcl651.com
SUMMARY:Amity Lodge Meeting
DESCRIPTION:
URL:https://tcl651.com/event/amity-lodge-meeting-5/
LOCATION:NY
ATTACH;FMTTYPE=image/jpeg:https://tcl651.com/wp-content/uploads/2024/11/Lodge_Amity_Meeting.jpg
END:VEVENT
BEGIN:VEVENT
DTSTART;TZID=UTC:20250411T190000
DTEND;TZID=UTC:20250411T190000
DTSTAMP:20260420T114255
CREATED:20241124T174531Z
LAST-MODIFIED:20241211T152253Z
UID:40977-1744398000-1744398000@tcl651.com
SUMMARY:George Washington Lodge Meeting
DESCRIPTION:
URL:https://tcl651.com/event/george-washington-lodge-meeting-9/
LOCATION:Doric Room – 8th Floor\, 71 W 23rd Street\, New York\, NY\, 10010\, United States
ATTACH;FMTTYPE=image/jpeg:https://tcl651.com/wp-content/uploads/2024/11/Lodge_GW_meeting.jpg
END:VEVENT
BEGIN:VEVENT
DTSTART;TZID=UTC:20250410T190000
DTEND;TZID=UTC:20250410T213000
DTSTAMP:20260420T114255
CREATED:20241123T212706Z
LAST-MODIFIED:20241211T152246Z
UID:40817-1744311600-1744320600@tcl651.com
SUMMARY:Scotia Lodge Meeting
DESCRIPTION:
URL:https://tcl651.com/event/scotia-lodge-meeting-5/
LOCATION:Doric Room – 8th Floor\, 71 W 23rd Street\, New York\, NY\, 10010\, United States
ATTACH;FMTTYPE=image/jpeg:https://tcl651.com/wp-content/uploads/2024/11/Lodge_Scotia_meeting.jpg
END:VEVENT
BEGIN:VEVENT
DTSTART;TZID=UTC:20250409T190000
DTEND;TZID=UTC:20250409T213000
DTSTAMP:20260420T114255
CREATED:20241123T211921Z
LAST-MODIFIED:20241211T152239Z
UID:40803-1744225200-1744234200@tcl651.com
SUMMARY:Continental Lodge Meeting
DESCRIPTION:
URL:https://tcl651.com/event/continental-lodge-meeting-5/
LOCATION:Renaissance Room – 6th Floor\, 71 W 23rd Street\, New York\, NY\, 10010\, United States
ATTACH;FMTTYPE=image/jpeg:https://tcl651.com/wp-content/uploads/2024/11/Lodge_Continental.jpg
END:VEVENT
BEGIN:VEVENT
DTSTART;TZID=UTC:20250408T190000
DTEND;TZID=UTC:20250408T213000
DTSTAMP:20260420T114255
CREATED:20241124T162406Z
LAST-MODIFIED:20241211T152232Z
UID:40936-1744138800-1744147800@tcl651.com
SUMMARY:Carpenter Emmanuel Lodge Meeting
DESCRIPTION:
URL:https://tcl651.com/event/carpenter-emmanuel-lodge-meeting-9/
LOCATION:Empire Room – 12th Floor\, 71 W 23rd Street\, New York\, NY\, 10010\, United States
ATTACH;FMTTYPE=image/jpeg:https://tcl651.com/wp-content/uploads/2024/11/Lodge_CarpenterEmmanuel.jpg
END:VEVENT
BEGIN:VEVENT
DTSTART;TZID=UTC:20250408T080000
DTEND;TZID=UTC:20250408T170000
DTSTAMP:20260420T114255
CREATED:20241123T214650Z
LAST-MODIFIED:20241211T152224Z
UID:40834-1744099200-1744131600@tcl651.com
SUMMARY:Willard Sylvan Grove Lodge Meeting
DESCRIPTION:
URL:https://tcl651.com/event/willard-sylvan-grove-lodge-meeting-5/
LOCATION:Scottish Rite Masonic Hall\, 28 Lincoln Ave\, Rockville Center\, NY\, 11570\, United States
ATTACH;FMTTYPE=image/jpeg:https://tcl651.com/wp-content/uploads/2024/11/Lodge_WSG_meeting.jpg
END:VEVENT
BEGIN:VEVENT
DTSTART;TZID=UTC:20250406T123000
DTEND;TZID=UTC:20250406T173000
DTSTAMP:20260420T114255
CREATED:20241127T183003Z
LAST-MODIFIED:20241211T151502Z
UID:41104-1743942600-1743960600@tcl651.com
SUMMARY:Amity Lodge Group Outing
DESCRIPTION:To purchase tickets\, go to www.amity323.com \nFor further information\, contact David Rothstein at (917) 322-9136 or via email at Ldavidrothstein@gmail.com \n 
URL:https://tcl651.com/event/amity-lodge-group-outing/
LOCATION:UBS Areana\, 2400 Hempstead Turnpike\, Elmont\, NY\, 11003\, United States
ATTACH;FMTTYPE=image/jpeg:https://tcl651.com/wp-content/uploads/2024/11/EVENTS_AmityHockey.jpg
END:VEVENT
BEGIN:VEVENT
DTSTART;TZID=UTC:20250328T190000
DTEND;TZID=UTC:20250328T213000
DTSTAMP:20260420T114255
CREATED:20241124T155635Z
LAST-MODIFIED:20241211T152217Z
UID:40907-1743188400-1743197400@tcl651.com
SUMMARY:Bunting Charity Lodge Meeting
DESCRIPTION:
URL:https://tcl651.com/event/bunting-charity-lodge-meeting-8/
LOCATION:Doric Room – 8th Floor\, 71 W 23rd Street\, New York\, NY\, 10010\, United States
ATTACH;FMTTYPE=image/jpeg:https://tcl651.com/wp-content/uploads/2024/11/Lodge_BuntingCharity727.jpg
END:VEVENT
BEGIN:VEVENT
DTSTART;TZID=UTC:20250321T190000
DTEND;TZID=UTC:20250321T213000
DTSTAMP:20260420T114255
CREATED:20241124T174442Z
LAST-MODIFIED:20241211T152209Z
UID:40975-1742583600-1742592600@tcl651.com
SUMMARY:George Washington Lodge Meeting
DESCRIPTION:
URL:https://tcl651.com/event/george-washington-lodge-meeting-8/
LOCATION:Doric Room – 8th Floor\, 71 W 23rd Street\, New York\, NY\, 10010\, United States
ATTACH;FMTTYPE=image/jpeg:https://tcl651.com/wp-content/uploads/2024/11/Lodge_GW_meeting.jpg
END:VEVENT
BEGIN:VEVENT
DTSTART;TZID=UTC:20250319T193000
DTEND;TZID=UTC:20250319T213000
DTSTAMP:20260420T114255
CREATED:20241120T184735Z
LAST-MODIFIED:20241211T152153Z
UID:40670-1742412600-1742419800@tcl651.com
SUMMARY:True Craftsman's Lodge Meeting
DESCRIPTION:Brethren\, we warmly invite you to attend our upcoming Lodge Meeting\, followed by the True Craftsmanship Lodge: MDC School of Instruction. This is an excellent opportunity for all Brothers to come together in fellowship\, deepen our understanding of Masonic rituals\, and enhance our skills in the practice of the Craft. Whether you’re a seasoned Brother or newly initiated\, the School of Instruction will provide valuable insights and guidance to help us all grow in knowledge and proficiency. Your presence will contribute to the strength and unity of our Lodge\, and we look forward to seeing you there for both the meeting and the educational session.
URL:https://tcl651.com/event/tcl-lodge-meeting-3/
LOCATION:Renaissance Room – 6th Floor\, 71 W 23rd Street\, New York\, NY\, 10010\, United States
ATTACH;FMTTYPE=image/jpeg:https://tcl651.com/wp-content/uploads/2024/11/Lodge_TCL.jpg
END:VEVENT
BEGIN:VEVENT
DTSTART;TZID=UTC:20250318T190000
DTEND;TZID=UTC:20250318T213000
DTSTAMP:20260420T114255
CREATED:20241124T162048Z
LAST-MODIFIED:20241211T152145Z
UID:40931-1742324400-1742333400@tcl651.com
SUMMARY:Carpenter Emmanuel Lodge Meeting
DESCRIPTION:
URL:https://tcl651.com/event/carpenter-emmanuel-lodge-meeting-8/
LOCATION:Empire Room – 12th Floor\, 71 W 23rd Street\, New York\, NY\, 10010\, United States
ATTACH;FMTTYPE=image/jpeg:https://tcl651.com/wp-content/uploads/2024/11/Lodge_CarpenterEmmanuel.jpg
END:VEVENT
END:VCALENDAR